Package: dmrseq Version: 1.31.0 Command: /home/biocbuild/bbs-3.23-bioc/R/bin/R CMD build --keep-empty-dirs --no-resave-data dmrseq StartedAt: 2025-11-05 17:24:18 -0500 (Wed, 05 Nov 2025) EndedAt: 2025-11-05 17:27:18 -0500 (Wed, 05 Nov 2025) EllapsedTime: 180.2 seconds RetCode: 0 Status: OK PackageFile: dmrseq_1.31.0.tar.gz PackageFileSize: 2.821 MiB