Package: dmrseq Version: 1.31.0 Command: /Library/Frameworks/R.framework/Resources/bin/R CMD build --keep-empty-dirs --no-resave-data dmrseq StartedAt: 2025-11-26 16:49:53 -0500 (Wed, 26 Nov 2025) EndedAt: 2025-11-26 16:53:23 -0500 (Wed, 26 Nov 2025) EllapsedTime: 210.7 seconds RetCode: 0 Status: OK PackageFile: dmrseq_1.31.0.tar.gz PackageFileSize: 2.962 MiB