Package: dmrseq Version: 1.29.2 Command: /Library/Frameworks/R.framework/Resources/bin/R CMD INSTALL dmrseq StartedAt: 2025-10-10 15:24:25 -0400 (Fri, 10 Oct 2025) EndedAt: 2025-10-10 15:24:46 -0400 (Fri, 10 Oct 2025) EllapsedTime: 20.5 seconds RetCode: 0 Status: OK