Package: dmrseq Version: 1.29.2 Command: /Library/Frameworks/R.framework/Resources/bin/R CMD build --keep-empty-dirs --no-resave-data dmrseq StartedAt: 2025-10-10 16:16:05 -0400 (Fri, 10 Oct 2025) EndedAt: 2025-10-10 16:17:21 -0400 (Fri, 10 Oct 2025) EllapsedTime: 75.8 seconds RetCode: 0 Status: OK PackageFile: dmrseq_1.29.2.tar.gz PackageFileSize: 2.968 MiB