Package: dmrseq Version: 1.29.2 Command: rm -rf dmrseq.buildbin-libdir && mkdir dmrseq.buildbin-libdir && /Users/biocbuild/BBS/utils/build-universal.sh dmrseq_1.29.2.tar.gz /Library/Frameworks/R.framework/Resources/bin/R dmrseq.buildbin-libdir StartedAt: 2025-10-10 22:39:19 -0400 (Fri, 10 Oct 2025) EndedAt: 2025-10-10 22:39:42 -0400 (Fri, 10 Oct 2025) EllapsedTime: 22.5 seconds RetCode: 0 Status: OK PackageFile: dmrseq_1.29.2.tgz PackageFileSize: 4.514 MiB