Package: dmrseq Version: 1.31.0 Maintainer: Keegan Korthauer MaintainerEmail: keegan at stat.ubc.ca git_url: https://git.bioconductor.org/packages/dmrseq git_branch: devel git_last_commit: 4df1200 git_last_commit_date: 2025-10-29 10:43:32 -0500 (Wed, 29 Oct 2025)