Package: dmGsea Version: 0.99.11 Command: /home/biocbuild/bbs-3.22-bioc/R/bin/R CMD INSTALL dmGsea StartedAt: 2025-09-29 15:35:14 -0400 (Mon, 29 Sep 2025) EndedAt: 2025-09-29 15:35:49 -0400 (Mon, 29 Sep 2025) EllapsedTime: 34.6 seconds RetCode: 0 Status: OK