Package: dmGsea Version: 1.1.1 Command: /Library/Frameworks/R.framework/Resources/bin/R CMD INSTALL dmGsea StartedAt: 2025-11-21 15:15:55 -0500 (Fri, 21 Nov 2025) EndedAt: 2025-11-21 15:16:06 -0500 (Fri, 21 Nov 2025) EllapsedTime: 10.3 seconds RetCode: 0 Status: OK