Package: dmGsea Version: 1.1.1 Command: /Library/Frameworks/R.framework/Resources/bin/R CMD build --keep-empty-dirs --no-resave-data dmGsea StartedAt: 2025-11-21 16:11:07 -0500 (Fri, 21 Nov 2025) EndedAt: 2025-11-21 16:13:41 -0500 (Fri, 21 Nov 2025) EllapsedTime: 154.6 seconds RetCode: 0 Status: OK PackageFile: dmGsea_1.1.1.tar.gz PackageFileSize: 2.001 MiB