Package: dmGsea Version: 1.1.1 Command: rm -rf dmGsea.buildbin-libdir && mkdir dmGsea.buildbin-libdir && /Users/biocbuild/BBS/utils/build-universal.sh dmGsea_1.1.1.tar.gz /Library/Frameworks/R.framework/Resources/bin/R dmGsea.buildbin-libdir StartedAt: 2025-11-21 23:30:15 -0500 (Fri, 21 Nov 2025) EndedAt: 2025-11-21 23:30:28 -0500 (Fri, 21 Nov 2025) EllapsedTime: 13.3 seconds RetCode: 0 Status: OK PackageFile: dmGsea_1.1.1.tgz PackageFileSize: 2.085 MiB