Package: dks Version: 1.57.0 Command: /home/biocbuild/bbs-3.23-bioc/R/bin/R CMD INSTALL dks StartedAt: 2025-11-20 15:01:52 -0500 (Thu, 20 Nov 2025) EndedAt: 2025-11-20 15:01:57 -0500 (Thu, 20 Nov 2025) EllapsedTime: 5.3 seconds RetCode: 0 Status: OK