Package: dks Version: 1.57.0 Command: /Library/Frameworks/R.framework/Resources/bin/R CMD INSTALL dks StartedAt: 2025-11-20 15:10:25 -0500 (Thu, 20 Nov 2025) EndedAt: 2025-11-20 15:10:33 -0500 (Thu, 20 Nov 2025) EllapsedTime: 8.3 seconds RetCode: 0 Status: OK