Package: dks Version: 1.57.0 Command: /Library/Frameworks/R.framework/Resources/bin/R CMD build --keep-empty-dirs --no-resave-data dks StartedAt: 2025-11-20 16:50:06 -0500 (Thu, 20 Nov 2025) EndedAt: 2025-11-20 16:50:22 -0500 (Thu, 20 Nov 2025) EllapsedTime: 16.0 seconds RetCode: 0 Status: OK PackageFile: dks_1.57.0.tar.gz PackageFileSize: 600.4 KiB