Package: dks Version: 1.57.0 Command: rm -rf dks.buildbin-libdir && mkdir dks.buildbin-libdir && /Users/biocbuild/BBS/utils/build-universal.sh dks_1.57.0.tar.gz /Library/Frameworks/R.framework/Resources/bin/R dks.buildbin-libdir StartedAt: 2025-11-21 01:31:10 -0500 (Fri, 21 Nov 2025) EndedAt: 2025-11-21 01:31:16 -0500 (Fri, 21 Nov 2025) EllapsedTime: 5.8 seconds RetCode: 0 Status: OK PackageFile: dks_1.57.0.tgz PackageFileSize: 620 KiB