Package: dks Version: 1.55.0 Command: /Library/Frameworks/R.framework/Resources/bin/R CMD INSTALL dks StartedAt: 2025-10-15 15:02:17 -0400 (Wed, 15 Oct 2025) EndedAt: 2025-10-15 15:02:19 -0400 (Wed, 15 Oct 2025) EllapsedTime: 1.5 seconds RetCode: 0 Status: OK