Package: dks Version: 1.55.0 Command: /Library/Frameworks/R.framework/Resources/bin/R CMD build --keep-empty-dirs --no-resave-data dks StartedAt: 2025-10-16 16:25:40 -0400 (Thu, 16 Oct 2025) EndedAt: 2025-10-16 16:25:46 -0400 (Thu, 16 Oct 2025) EllapsedTime: 6.1 seconds RetCode: 0 Status: OK PackageFile: dks_1.55.0.tar.gz PackageFileSize: 601.4 KiB