Package: divergence Version: 1.25.0 Command: /home/biocbuild/bbs-3.22-bioc/R/bin/R CMD INSTALL divergence StartedAt: 2025-10-03 15:16:11 -0400 (Fri, 03 Oct 2025) EndedAt: 2025-10-03 15:16:31 -0400 (Fri, 03 Oct 2025) EllapsedTime: 19.6 seconds RetCode: 0 Status: OK