Package: divergence Version: 1.25.0 Command: /home/biocbuild/bbs-3.22-bioc/R/bin/R CMD build --keep-empty-dirs --no-resave-data --md5 divergence StartedAt: 2025-10-03 17:20:09 -0400 (Fri, 03 Oct 2025) EndedAt: 2025-10-03 17:20:58 -0400 (Fri, 03 Oct 2025) EllapsedTime: 49.0 seconds RetCode: 0 Status: OK PackageFile: divergence_1.25.0.tar.gz PackageFileSize: 2.074 MiB