Package: divergence Version: 1.27.0 Command: /home/biocbuild/bbs-3.23-bioc/R/bin/R CMD build --keep-empty-dirs --no-resave-data divergence StartedAt: 2025-11-20 17:20:37 -0500 (Thu, 20 Nov 2025) EndedAt: 2025-11-20 17:21:28 -0500 (Thu, 20 Nov 2025) EllapsedTime: 51.0 seconds RetCode: 0 Status: OK PackageFile: divergence_1.27.0.tar.gz PackageFileSize: 2.073 MiB