Package: divergence Version: 1.25.0 Command: /Library/Frameworks/R.framework/Resources/bin/R CMD INSTALL divergence StartedAt: 2025-10-28 15:21:19 -0400 (Tue, 28 Oct 2025) EndedAt: 2025-10-28 15:21:47 -0400 (Tue, 28 Oct 2025) EllapsedTime: 28.1 seconds RetCode: 0 Status: OK