Package: divergence Version: 1.25.0 Command: /Library/Frameworks/R.framework/Resources/bin/R CMD INSTALL divergence StartedAt: 2025-10-10 15:13:22 -0400 (Fri, 10 Oct 2025) EndedAt: 2025-10-10 15:13:30 -0400 (Fri, 10 Oct 2025) EllapsedTime: 8.3 seconds RetCode: 0 Status: OK