Package: divergence Version: 1.25.0 Command: /Library/Frameworks/R.framework/Resources/bin/R CMD build --keep-empty-dirs --no-resave-data divergence StartedAt: 2025-10-10 16:15:20 -0400 (Fri, 10 Oct 2025) EndedAt: 2025-10-10 16:15:43 -0400 (Fri, 10 Oct 2025) EllapsedTime: 22.2 seconds RetCode: 0 Status: OK PackageFile: divergence_1.25.0.tar.gz PackageFileSize: 2.073 MiB