Package: dittoSeq Version: 1.21.1 Command: /home/biocbuild/R/R/bin/R CMD build --keep-empty-dirs --no-resave-data dittoSeq StartedAt: 2025-10-13 23:52:05 -0000 (Mon, 13 Oct 2025) EndedAt: 2025-10-13 23:54:57 -0000 (Mon, 13 Oct 2025) EllapsedTime: 172.1 seconds RetCode: 0 Status: OK PackageFile: dittoSeq_1.21.1.tar.gz PackageFileSize: 2.514 MiB