Package: dittoSeq Version: 1.23.0 Command: /home/biocbuild/bbs-3.23-bioc/R/bin/R CMD INSTALL dittoSeq StartedAt: 2025-11-05 15:30:18 -0500 (Wed, 05 Nov 2025) EndedAt: 2025-11-05 15:30:45 -0500 (Wed, 05 Nov 2025) EllapsedTime: 26.7 seconds RetCode: 0 Status: OK