Package: dittoSeq Version: 1.23.0 Command: /home/biocbuild/bbs-3.23-bioc/R/bin/R CMD check --install=check:dittoSeq.install-out.txt --library=/home/biocbuild/bbs-3.23-bioc/R/site-library --timings dittoSeq_1.23.0.tar.gz StartedAt: 2025-11-16 23:08:06 -0500 (Sun, 16 Nov 2025) EndedAt: 2025-11-16 23:18:44 -0500 (Sun, 16 Nov 2025) EllapsedTime: 637.7 seconds RetCode: 0 Status: OK CheckDir: dittoSeq.Rcheck Warnings: 0