Package: distinct Version: 1.23.0 Command: /home/biocbuild/bbs-3.23-bioc/R/bin/R CMD INSTALL distinct StartedAt: 2025-11-20 15:55:59 -0500 (Thu, 20 Nov 2025) EndedAt: 2025-11-20 15:57:09 -0500 (Thu, 20 Nov 2025) EllapsedTime: 70.0 seconds RetCode: 0 Status: OK