Package: distinct Version: 1.23.0 Command: /home/biocbuild/bbs-3.23-bioc/R/bin/R CMD build --keep-empty-dirs --no-resave-data distinct StartedAt: 2025-11-21 17:19:23 -0500 (Fri, 21 Nov 2025) EndedAt: 2025-11-21 17:23:22 -0500 (Fri, 21 Nov 2025) EllapsedTime: 239.2 seconds RetCode: 0 Status: OK PackageFile: distinct_1.23.0.tar.gz PackageFileSize: 1.82 MiB