Package: distinct Version: 1.21.1 Command: /Library/Frameworks/R.framework/Resources/bin/R CMD build --keep-empty-dirs --no-resave-data distinct StartedAt: 2025-10-24 16:53:29 -0400 (Fri, 24 Oct 2025) EndedAt: 2025-10-24 16:57:04 -0400 (Fri, 24 Oct 2025) EllapsedTime: 214.7 seconds RetCode: 0 Status: OK PackageFile: distinct_1.21.1.tar.gz PackageFileSize: 1.848 MiB