Package: distinct Version: 1.21.1 Command: rm -rf distinct.buildbin-libdir && mkdir distinct.buildbin-libdir && /Users/biocbuild/BBS/utils/build-universal.sh distinct_1.21.1.tar.gz /Library/Frameworks/R.framework/Resources/bin/R distinct.buildbin-libdir StartedAt: 2025-10-25 01:37:30 -0400 (Sat, 25 Oct 2025) EndedAt: 2025-10-25 01:38:54 -0400 (Sat, 25 Oct 2025) EllapsedTime: 84.3 seconds RetCode: 0 Status: OK PackageFile: distinct_1.21.1.tgz PackageFileSize: 2.013 MiB