Package: distinct Version: 1.21.0 Command: /Library/Frameworks/R.framework/Resources/bin/R CMD INSTALL distinct StartedAt: 2025-10-13 15:31:18 -0400 (Mon, 13 Oct 2025) EndedAt: 2025-10-13 15:31:40 -0400 (Mon, 13 Oct 2025) EllapsedTime: 21.8 seconds RetCode: 0 Status: OK