Package: distinct Version: 1.21.0 Command: /Library/Frameworks/R.framework/Resources/bin/R CMD build --keep-empty-dirs --no-resave-data distinct StartedAt: 2025-10-13 16:14:10 -0400 (Mon, 13 Oct 2025) EndedAt: 2025-10-13 16:15:34 -0400 (Mon, 13 Oct 2025) EllapsedTime: 83.9 seconds RetCode: 0 Status: OK PackageFile: distinct_1.21.0.tar.gz PackageFileSize: 1.856 MiB