Package: discordant Version: 1.33.0 Command: /Library/Frameworks/R.framework/Resources/bin/R CMD INSTALL discordant StartedAt: 2025-10-28 15:16:49 -0400 (Tue, 28 Oct 2025) EndedAt: 2025-10-28 15:17:17 -0400 (Tue, 28 Oct 2025) EllapsedTime: 27.9 seconds RetCode: 0 Status: OK