Package: discordant Version: 1.33.0 Command: rm -rf discordant.buildbin-libdir && mkdir discordant.buildbin-libdir && /Users/biocbuild/BBS/utils/build-universal.sh discordant_1.33.0.tar.gz /Library/Frameworks/R.framework/Resources/bin/R discordant.buildbin-libdir StartedAt: 2025-10-29 01:32:09 -0400 (Wed, 29 Oct 2025) EndedAt: 2025-10-29 01:32:28 -0400 (Wed, 29 Oct 2025) EllapsedTime: 18.5 seconds RetCode: 0 Status: OK PackageFile: discordant_1.33.0.tgz PackageFileSize: 553.5 KiB