Package: discordant Version: 1.33.0 Command: /Library/Frameworks/R.framework/Resources/bin/R CMD INSTALL discordant StartedAt: 2025-09-30 15:07:30 -0400 (Tue, 30 Sep 2025) EndedAt: 2025-09-30 15:07:33 -0400 (Tue, 30 Sep 2025) EllapsedTime: 3.9 seconds RetCode: 0 Status: OK