Package: discordant Version: 1.33.0 Command: /Library/Frameworks/R.framework/Resources/bin/R CMD build --keep-empty-dirs --no-resave-data discordant StartedAt: 2025-10-01 16:13:52 -0400 (Wed, 01 Oct 2025) EndedAt: 2025-10-01 16:14:08 -0400 (Wed, 01 Oct 2025) EllapsedTime: 16.2 seconds RetCode: 0 Status: OK PackageFile: discordant_1.33.0.tar.gz PackageFileSize: 475.2 KiB