Package: discordant Version: 1.33.0 Command: rm -rf discordant.buildbin-libdir && mkdir discordant.buildbin-libdir && /Users/biocbuild/BBS/utils/build-universal.sh discordant_1.33.0.tar.gz /Library/Frameworks/R.framework/Resources/bin/R discordant.buildbin-libdir StartedAt: 2025-09-30 22:37:58 -0400 (Tue, 30 Sep 2025) EndedAt: 2025-09-30 22:38:03 -0400 (Tue, 30 Sep 2025) EllapsedTime: 5.1 seconds RetCode: 0 Status: OK PackageFile: discordant_1.33.0.tgz PackageFileSize: 551 KiB