Package: discordant Version: 1.35.0 Maintainer: McGrath Max MaintainerEmail: max.mcgrath at ucdenver.edu git_url: https://git.bioconductor.org/packages/discordant git_branch: devel git_last_commit: 3702a42 git_last_commit_date: 2025-10-29 10:36:41 -0400 (Wed, 29 Oct 2025)