Package: dir.expiry Version: 1.19.0 Command: /Library/Frameworks/R.framework/Resources/bin/R CMD build --keep-empty-dirs --no-resave-data dir.expiry StartedAt: 2025-11-21 16:10:36 -0500 (Fri, 21 Nov 2025) EndedAt: 2025-11-21 16:10:39 -0500 (Fri, 21 Nov 2025) EllapsedTime: 3.0 seconds RetCode: 0 Status: OK PackageFile: dir.expiry_1.19.0.tar.gz PackageFileSize: 301.1 KiB