Package: dinoR Version: 1.5.0 Command: /home/biocbuild/R/R/bin/R CMD INSTALL dinoR StartedAt: 2025-10-13 20:56:43 -0000 (Mon, 13 Oct 2025) EndedAt: 2025-10-13 20:57:18 -0000 (Mon, 13 Oct 2025) EllapsedTime: 35.8 seconds RetCode: 0 Status: OK