Package: dinoR Version: 1.5.0 Command: /home/biocbuild/R/R/bin/R CMD build --keep-empty-dirs --no-resave-data dinoR StartedAt: 2025-10-17 00:42:14 -0000 (Fri, 17 Oct 2025) EndedAt: 2025-10-17 00:43:52 -0000 (Fri, 17 Oct 2025) EllapsedTime: 98.0 seconds RetCode: 0 Status: OK PackageFile: dinoR_1.5.0.tar.gz PackageFileSize: 2.899 MiB