Package: dinoR Version: 1.5.0 Command: /home/biocbuild/bbs-3.22-bioc/R/bin/R CMD check --install=check:dinoR.install-out.txt --library=/home/biocbuild/bbs-3.22-bioc/R/site-library --timings dinoR_1.5.0.tar.gz StartedAt: 2025-10-24 23:09:44 -0400 (Fri, 24 Oct 2025) EndedAt: 2025-10-24 23:14:15 -0400 (Fri, 24 Oct 2025) EllapsedTime: 271.2 seconds RetCode: 0 Status: OK CheckDir: dinoR.Rcheck Warnings: 0