Package: dinoR Version: 1.7.0 Command: /home/biocbuild/bbs-3.23-bioc/R/bin/R CMD build --keep-empty-dirs --no-resave-data dinoR StartedAt: 2025-11-05 17:22:22 -0500 (Wed, 05 Nov 2025) EndedAt: 2025-11-05 17:23:30 -0500 (Wed, 05 Nov 2025) EllapsedTime: 68.1 seconds RetCode: 0 Status: OK PackageFile: dinoR_1.7.0.tar.gz PackageFileSize: 3.229 MiB