Package: diggit Version: 1.43.0 Command: /home/biocbuild/bbs-3.23-bioc/R/bin/R CMD INSTALL diggit StartedAt: 2025-11-02 15:19:52 -0500 (Sun, 02 Nov 2025) EndedAt: 2025-11-02 15:20:06 -0500 (Sun, 02 Nov 2025) EllapsedTime: 14.1 seconds RetCode: 0 Status: OK