Package: diggit Version: 1.43.0 Command: /home/biocbuild/bbs-3.23-bioc/R/bin/R CMD build --keep-empty-dirs --no-resave-data diggit StartedAt: 2025-11-03 17:14:11 -0500 (Mon, 03 Nov 2025) EndedAt: 2025-11-03 17:16:36 -0500 (Mon, 03 Nov 2025) EllapsedTime: 145.1 seconds RetCode: 0 Status: OK PackageFile: diggit_1.43.0.tar.gz PackageFileSize: 348.7 KiB