Package: diggit Version: 1.41.0 Command: /Library/Frameworks/R.framework/Resources/bin/R CMD INSTALL diggit StartedAt: 2025-10-23 15:07:25 -0400 (Thu, 23 Oct 2025) EndedAt: 2025-10-23 15:07:30 -0400 (Thu, 23 Oct 2025) EllapsedTime: 5.8 seconds RetCode: 0 Status: OK