Package: diffuStats Version: 1.31.0 Command: /home/biocbuild/bbs-3.23-bioc/R/bin/R CMD build --keep-empty-dirs --no-resave-data diffuStats StartedAt: 2025-10-31 17:30:06 -0400 (Fri, 31 Oct 2025) EndedAt: 2025-10-31 17:30:53 -0400 (Fri, 31 Oct 2025) EllapsedTime: 47.1 seconds RetCode: 0 Status: OK PackageFile: diffuStats_1.31.0.tar.gz PackageFileSize: 1.315 MiB