############################################################################## ############################################################################## ### ### Running command: ### ### /home/biocbuild/bbs-3.23-bioc/R/bin/R CMD build --keep-empty-dirs --no-resave-data diffuStats ### ############################################################################## ############################################################################## * checking for file ‘diffuStats/DESCRIPTION’ ... OK * preparing ‘diffuStats’: * checking DESCRIPTION meta-information ... OK * cleaning src * installing the package (it is needed to build vignettes) * creating vignettes ... OK * cleaning src * checking for LF line-endings in source and make files and shell scripts * checking for empty or unneeded directories * building ‘diffuStats_1.31.0.tar.gz’