Package: diffcyt Version: 1.31.0 Command: /home/biocbuild/bbs-3.23-bioc/R/bin/R CMD check --install=check:diffcyt.install-out.txt --library=/home/biocbuild/bbs-3.23-bioc/R/site-library --timings diffcyt_1.31.0.tar.gz StartedAt: 2025-11-05 22:55:47 -0500 (Wed, 05 Nov 2025) EndedAt: 2025-11-05 23:01:30 -0500 (Wed, 05 Nov 2025) EllapsedTime: 342.4 seconds RetCode: 0 Status: OK CheckDir: diffcyt.Rcheck Warnings: 0