Package: diffcoexp Version: 1.31.0 Command: /home/biocbuild/bbs-3.23-bioc/R/bin/R CMD build --keep-empty-dirs --no-resave-data diffcoexp StartedAt: 2025-11-05 17:20:59 -0500 (Wed, 05 Nov 2025) EndedAt: 2025-11-05 17:21:44 -0500 (Wed, 05 Nov 2025) EllapsedTime: 45.0 seconds RetCode: 0 Status: OK PackageFile: diffcoexp_1.31.0.tar.gz PackageFileSize: 294.1 KiB