Package: diffUTR Version: 1.19.0 Command: /home/biocbuild/bbs-3.23-bioc/R/bin/R CMD INSTALL diffUTR StartedAt: 2025-11-03 15:41:15 -0500 (Mon, 03 Nov 2025) EndedAt: 2025-11-03 15:42:00 -0500 (Mon, 03 Nov 2025) EllapsedTime: 45.8 seconds RetCode: 0 Status: OK